BEGIN:VCALENDAR
VERSION:2.0
PRODID:-//Maine Saosnois - ECPv6.6.3//NONSGML v1.0//EN
CALSCALE:GREGORIAN
METHOD:PUBLISH
X-ORIGINAL-URL:https://www.mainesaosnois.fr
X-WR-CALDESC:évènements pour Maine Saosnois
REFRESH-INTERVAL;VALUE=DURATION:PT1H
X-Robots-Tag:noindex
X-PUBLISHED-TTL:PT1H
BEGIN:VTIMEZONE
TZID:Europe/Paris
BEGIN:DAYLIGHT
TZOFFSETFROM:+0100
TZOFFSETTO:+0200
TZNAME:CEST
DTSTART:20260329T010000
END:DAYLIGHT
BEGIN:STANDARD
TZOFFSETFROM:+0200
TZOFFSETTO:+0100
TZNAME:CET
DTSTART:20261025T010000
END:STANDARD
END:VTIMEZONE
BEGIN:VEVENT
DTSTART;TZID=Europe/Paris:20260201T143000
DTEND;TZID=Europe/Paris:20260201T143000
DTSTAMP:20260421T042747
CREATED:20250916T084630Z
LAST-MODIFIED:20251208T154117Z
UID:5968-1769956200-1769956200@www.mainesaosnois.fr
SUMMARY:22èmes Rencontres Chorégraphiques
DESCRIPTION:
URL:https://www.mainesaosnois.fr/evenement/22emes-rencontres-choregraphiques/
LOCATION:Espace Saugonna\, 2 Rue de la Gare\, Mamers\, Sarthe\, 72600\, France
CATEGORIES:Saison Culturelle,Spectacle
ATTACH;FMTTYPE=image/jpeg:https://www.mainesaosnois.fr/wp-content/uploads/2025/09/RENCONTRES-CHOREGRAPHIQUES-1.jpg
END:VEVENT
BEGIN:VEVENT
DTSTART;TZID=Europe/Paris:20260206T203000
DTEND;TZID=Europe/Paris:20260206T203000
DTSTAMP:20260421T042747
CREATED:20250916T084913Z
LAST-MODIFIED:20250916T084914Z
UID:5971-1770409800-1770409800@www.mainesaosnois.fr
SUMMARY:Area Jeune Ballet
DESCRIPTION:Parce que l’on ne s’en lasse pas\, l’Area Jeune Ballet\, déjà invité des Rencontres Chorégraphiques Maine Saosnois en 2024 et 2025\, revient en 2026 avec un nouveau répertoire ! \n\n\n\nCréé en 2015\, l’AJB est une compagnie junior issue du programme de Formation Supérieure du Danseur de Dance Area à Genève. Elle est composée d’une vingtaine de talentueux danseurs internationaux\, âgés de 18 à 22 ans\, sélectionnés sur audition. Durant leur formation\, ces jeunes artistes sont amenés à travailler avec des chorégraphes influents et aux styles variés. Grâce à son large répertoire\, l’Area Jeune Ballet est régulièrement l’invité de festivals\, manifestations culturelles ou événements privés en Suisse et à l’étranger. \n\n\n\nDans le cadre des 22èmes Rencontres Chorégraphiques Maine Saosnois\, les jeunes danseurs interprèteront de nouvelles chorégraphies contemporaines. \n\n\n\nLe programme sera composé des pièces suivantes : Edouard Hue – « Into Outside » d’Edouard Hue\, « Une nouvelle création d’AlbaCastillon et de « Kiss and fly » de Gil Harush.
URL:https://www.mainesaosnois.fr/evenement/area-jeune-ballet/
LOCATION:Espace Saugonna\, 2 Rue de la Gare\, Mamers\, Sarthe\, 72600\, France
CATEGORIES:Saison Culturelle,Spectacle
ATTACH;FMTTYPE=image/jpeg:https://www.mainesaosnois.fr/wp-content/uploads/2025/09/AREA-JEUNE-BALLET.jpg
END:VEVENT
END:VCALENDAR