BEGIN:VCALENDAR
VERSION:2.0
PRODID:-//Maine Saosnois - ECPv6.6.3//NONSGML v1.0//EN
CALSCALE:GREGORIAN
METHOD:PUBLISH
X-ORIGINAL-URL:https://www.mainesaosnois.fr
X-WR-CALDESC:évènements pour Maine Saosnois
REFRESH-INTERVAL;VALUE=DURATION:PT1H
X-Robots-Tag:noindex
X-PUBLISHED-TTL:PT1H
BEGIN:VTIMEZONE
TZID:Europe/Paris
BEGIN:DAYLIGHT
TZOFFSETFROM:+0100
TZOFFSETTO:+0200
TZNAME:CEST
DTSTART:20260329T010000
END:DAYLIGHT
BEGIN:STANDARD
TZOFFSETFROM:+0200
TZOFFSETTO:+0100
TZNAME:CET
DTSTART:20261025T010000
END:STANDARD
END:VTIMEZONE
BEGIN:VEVENT
DTSTART;TZID=Europe/Paris:20260705T080000
DTEND;TZID=Europe/Paris:20260710T170000
DTSTAMP:20260421T133918
CREATED:20260206T081534Z
LAST-MODIFIED:20260414T082944Z
UID:6334-1783238400-1783702800@www.mainesaosnois.fr
SUMMARY:Stage de Cuivres\, Danse et Percussions
DESCRIPTION:Le Service Culturel de la Communauté de Communes Maine Saosnois et l’École de Musique et Danse proposent cette année encore un Stage de Cuivres\, Danse & Percussions. \n\n\n\nLes disciplines enseignées seront la Danse Contemporaine\, Modern Jazz\, Danse Classique\, Trompette\, Cor\, Trombone\, Tuba\, Saxhorn\, Batterie et Percussions. \n\n\n\nRenseignements et inscriptions – à partir du 28 avril – auprès du service Culturel Maine Saosnois :02 43 33 77 90 ou saugonna@mainesaosnois.fr Dépliants disponibles prochainement dans les écoles de Musique et Danse Maine Saosnois.
URL:https://www.mainesaosnois.fr/evenement/stage-de-cuivres-danse-et-percussions/
LOCATION:Espace Saugonna\, 2 Rue de la Gare\, Mamers\, Sarthe\, 72600\, France
CATEGORIES:Culture,Danse,Musique,Saison Culturelle
ATTACH;FMTTYPE=image/jpeg:https://www.mainesaosnois.fr/wp-content/uploads/2026/02/STAGES-2026_visuel.jpg
END:VEVENT
BEGIN:VEVENT
DTSTART;TZID=Europe/Paris:20260708T143000
DTEND;TZID=Europe/Paris:20260708T143000
DTSTAMP:20260421T133918
CREATED:20260330T074607Z
LAST-MODIFIED:20260330T074608Z
UID:6488-1783521000-1783521000@www.mainesaosnois.fr
SUMMARY:Les supers héros du jardin
DESCRIPTION:Saviez-vous qu’au Jardin\, il y a des habitants qui possèdent des supers pouvoirs ? Pour le découvrir\, participez à notre rallye des supers héros !
URL:https://www.mainesaosnois.fr/evenement/les-supers-heros-du-jardin/
LOCATION:Jardin potager\, 1 Rue d'Isly\, Bonnétable\, Sarthe\, 72110\, France
CATEGORIES:Animation,Tourisme
ATTACH;FMTTYPE=image/jpeg:https://www.mainesaosnois.fr/wp-content/uploads/2026/03/super-bee.jpg
END:VEVENT
BEGIN:VEVENT
DTSTART;TZID=Europe/Paris:20260719T100000
DTEND;TZID=Europe/Paris:20260719T170000
DTSTAMP:20260421T133918
CREATED:20260330T075718Z
LAST-MODIFIED:20260330T075719Z
UID:6492-1784455200-1784480400@www.mainesaosnois.fr
SUMMARY:Respire\, ressens et explore la forêt
DESCRIPTION:Venez vivre une journée immersive au cœur de la nature ! \n\n\n\nLe matin\, offrez-vous une parenthèse pour respirer\, se reconnecter à soi et ressentir la nature (séance à partir de 16 ans). \n\n\n\nL’après-midi\, la “sophro des animaux” invite les familles à une aventure sensible et ludique pour rencontrer son animal intérieur et partager un moment unique. \n\n\n\nTout au long de la journée : \n\n\n\n\nEspace créatif sur le thème de la forêt : coloriage\, landart\, tissage…\n\n\n\nJeux nature pour découvrir la forêt\n\n\n\nJeu d’orientation en autonomie\n\n\n\nCoin lecture et jeux de la médiathèque Le Lien\n\n\n\nÉchanges autour de l’hypnose et de la sophrologie avec Aurore Busin\, sophrologue.
URL:https://www.mainesaosnois.fr/evenement/respire-ressens-et-explore-la-foret/
LOCATION:Belvédère de Perseigne\, Louzes\, Sarthe\, 72600\, France
CATEGORIES:Familles,Sortie,Tourisme
ATTACH;FMTTYPE=image/jpeg:https://www.mainesaosnois.fr/wp-content/uploads/2026/03/BELVEDERE-PERSEIGNE_Balade-1.jpg
END:VEVENT
BEGIN:VEVENT
DTSTART;TZID=Europe/Paris:20260721T143000
DTEND;TZID=Europe/Paris:20260721T160000
DTSTAMP:20260421T133918
CREATED:20260330T080233Z
LAST-MODIFIED:20260330T080752Z
UID:6495-1784644200-1784649600@www.mainesaosnois.fr
SUMMARY:La quête du remède magique
DESCRIPTION:Un mystère plane sur le jardin… Un remède précieux a disparu ! \n\n\n\nAu fil d’histoires pleines de surprises\, les enfants partiront à l’aventure pour aider à le retrouver. Entre lectures\, indices cachés et petite chasse au trésor dans le jardin\, ils devront observer\, chercher et coopérer pour résoudre le mystère.
URL:https://www.mainesaosnois.fr/evenement/la-quete-du-remede-magique/
LOCATION:Jardin potager\, 1 Rue d'Isly\, Bonnétable\, Sarthe\, 72110\, France
CATEGORIES:Animation,Culture,Familles,Tourisme
ATTACH;FMTTYPE=image/jpeg:https://www.mainesaosnois.fr/wp-content/uploads/2026/03/LECTURES-PRINTANIERES_small.jpg
END:VEVENT
BEGIN:VEVENT
DTSTART;TZID=Europe/Paris:20260724T143000
DTEND;TZID=Europe/Paris:20260724T143000
DTSTAMP:20260421T133918
CREATED:20260330T080731Z
LAST-MODIFIED:20260330T080732Z
UID:6498-1784903400-1784903400@www.mainesaosnois.fr
SUMMARY:Au jardin des fées
DESCRIPTION:Entrez dans le jardin des fées\, là où les histoires de Mélusine prennent vie entre les feuilles et les pétales… \n\n\n\nAprès la balade contée\, laissez-vous transporter vers la table enchantée de la fée confiture où parfums\, saveurs et magie se mêlent pour un moment hors du temps.
URL:https://www.mainesaosnois.fr/evenement/au-jardin-des-fees/
LOCATION:Jardin potager\, 1 Rue d'Isly\, Bonnétable\, Sarthe\, 72110\, France
CATEGORIES:Animation,Culture,Familles,Tourisme
ATTACH;FMTTYPE=image/jpeg:https://www.mainesaosnois.fr/wp-content/uploads/2026/03/close-up-butterfly-collection-scaled.jpg
END:VEVENT
BEGIN:VEVENT
DTSTART;TZID=Europe/Paris:20260729T143000
DTEND;TZID=Europe/Paris:20260729T143000
DTSTAMP:20260421T133918
CREATED:20260330T081123Z
LAST-MODIFIED:20260330T081124Z
UID:6502-1785335400-1785335400@www.mainesaosnois.fr
SUMMARY:Enquête nature sur la Voie Verte
DESCRIPTION:Partez à la découverte de la Voie Verte et de ses habitants lors de cette enquête qui vous réserve bien des surprises…
URL:https://www.mainesaosnois.fr/evenement/enquete-nature-sur-la-voie-verte/
LOCATION:Voie verte – Parking de Vezot
CATEGORIES:Animation,Tourisme
ATTACH;FMTTYPE=image/jpeg:https://www.mainesaosnois.fr/wp-content/uploads/2022/10/fete-voie-verte_randonnee.jpg
END:VEVENT
END:VCALENDAR