BEGIN:VCALENDAR
VERSION:2.0
PRODID:-//Maine Saosnois - ECPv6.6.3//NONSGML v1.0//EN
CALSCALE:GREGORIAN
METHOD:PUBLISH
X-WR-CALNAME:Maine Saosnois
X-ORIGINAL-URL:https://www.mainesaosnois.fr
X-WR-CALDESC:évènements pour Maine Saosnois
REFRESH-INTERVAL;VALUE=DURATION:PT1H
X-Robots-Tag:noindex
X-PUBLISHED-TTL:PT1H
BEGIN:VTIMEZONE
TZID:Europe/Paris
BEGIN:DAYLIGHT
TZOFFSETFROM:+0100
TZOFFSETTO:+0200
TZNAME:CEST
DTSTART:20260329T010000
END:DAYLIGHT
BEGIN:STANDARD
TZOFFSETFROM:+0200
TZOFFSETTO:+0100
TZNAME:CET
DTSTART:20261025T010000
END:STANDARD
END:VTIMEZONE
BEGIN:VEVENT
DTSTART;TZID=Europe/Paris:20260828T173000
DTEND;TZID=Europe/Paris:20260828T173000
DTSTAMP:20260421T154757
CREATED:20260330T081512Z
LAST-MODIFIED:20260330T081513Z
UID:6504-1787938200-1787938200@www.mainesaosnois.fr
SUMMARY:Mélusine et le grimoire des plantes
DESCRIPTION:Laissez-vous guider par Dame Mélusine et ouvrez avec elle les pages cachées de son grimoire. \n\n\n\nEntre croyances anciennes\, légendes oubliées\, superstitions et anecdotes\, cette visite théâtralisée vous entraîne au cœur des secrets du monde végétal.
URL:https://www.mainesaosnois.fr/evenement/melusine-et-le-grimoire-des-plantes/
LOCATION:Jardin potager\, 1 Rue d'Isly\, Bonnétable\, Sarthe\, 72110\, France
CATEGORIES:Tourisme
ATTACH;FMTTYPE=image/jpeg:https://www.mainesaosnois.fr/wp-content/uploads/2022/11/jardin-potager-3-768x1155-1.jpg
END:VEVENT
BEGIN:VEVENT
DTSTART;TZID=Europe/Paris:20260830T150000
DTEND;TZID=Europe/Paris:20260830T150000
DTSTAMP:20260421T154757
CREATED:20260330T082332Z
LAST-MODIFIED:20260330T082333Z
UID:6506-1788102000-1788102000@www.mainesaosnois.fr
SUMMARY:Sieste musicale
DESCRIPTION:Au Belvédère\, la forêt se fait confidentielle. Installez-vous\, fermez les yeux et laissez-vous porter par la magie des instruments aux sonorités envoûtantes de Cécile Branche : harpes\, bol tibétain\, flûte\, chant… \n\n\n\nEntre voyages sonores\, et calme suspendu\, cette sieste musicale vous invite à une parenthèse de bien-être en pleine nature. Un moment apaisant proposé par la Médiathèque Le Lien.
URL:https://www.mainesaosnois.fr/evenement/sieste-musicale/
LOCATION:Belvédère de Perseigne\, Louzes\, Sarthe\, 72600\, France
CATEGORIES:Animation,Tourisme
ATTACH;FMTTYPE=image/jpeg:https://www.mainesaosnois.fr/wp-content/uploads/2026/03/sieste-musicale.jpg
END:VEVENT
END:VCALENDAR